BEGIN:VCALENDAR
VERSION:2.0
PRODID:-//MAMBO JAMBO - ECPv5.6.0//NONSGML v1.0//EN
CALSCALE:GREGORIAN
METHOD:PUBLISH
X-WR-CALNAME:MAMBO JAMBO
X-ORIGINAL-URL:https://mambojambo.co.uk
X-WR-CALDESC:Events for MAMBO JAMBO
BEGIN:VTIMEZONE
TZID:Europe/London
BEGIN:DAYLIGHT
TZOFFSETFROM:+0000
TZOFFSETTO:+0100
TZNAME:BST
DTSTART:20210328T010000
END:DAYLIGHT
BEGIN:STANDARD
TZOFFSETFROM:+0100
TZOFFSETTO:+0000
TZNAME:GMT
DTSTART:20211031T010000
END:STANDARD
END:VTIMEZONE
BEGIN:VEVENT
DTSTART;VALUE=DATE:20210703
DTEND;VALUE=DATE:20210704
DTSTAMP:20260421T114022
CREATED:20210524T191756Z
LAST-MODIFIED:20210524T191756Z
UID:26947-1625270400-1625356799@mambojambo.co.uk
SUMMARY:Workshops at The Albemarle Centre\, Hull
DESCRIPTION:We’ll be delivering some (private) workshops at the Albemarle Music Centre\, Hull\, for the Hull Music Service/ Hull Music Hub.
URL:https://mambojambo.co.uk/event/workshops-at-the-albemarle-centre-hull/
LOCATION:Albemarle Music Centre\, 60 Ferensway\, Hull\, HU2 8LN\, United Kingdom
END:VEVENT
END:VCALENDAR