BEGIN:VCALENDAR
VERSION:2.0
PRODID:-//MAMBO JAMBO - ECPv5.6.0//NONSGML v1.0//EN
CALSCALE:GREGORIAN
METHOD:PUBLISH
X-WR-CALNAME:MAMBO JAMBO
X-ORIGINAL-URL:https://mambojambo.co.uk
X-WR-CALDESC:Events for MAMBO JAMBO
BEGIN:VTIMEZONE
TZID:Europe/London
BEGIN:DAYLIGHT
TZOFFSETFROM:+0000
TZOFFSETTO:+0100
TZNAME:BST
DTSTART:20210328T010000
END:DAYLIGHT
BEGIN:STANDARD
TZOFFSETFROM:+0100
TZOFFSETTO:+0000
TZNAME:GMT
DTSTART:20211031T010000
END:STANDARD
END:VTIMEZONE
BEGIN:VEVENT
DTSTART;TZID=Europe/London:20210619T160000
DTEND;TZID=Europe/London:20210619T173000
DTSTAMP:20260421T141015
CREATED:20210420T183846Z
LAST-MODIFIED:20210420T183936Z
UID:26700-1624118400-1624123800@mambojambo.co.uk
SUMMARY:Wedding
DESCRIPTION:We love playing weddings! Contact us if you’d like ot make an enquiry!
URL:https://mambojambo.co.uk/event/wedding/
END:VEVENT
END:VCALENDAR