BEGIN:VCALENDAR
VERSION:2.0
PRODID:-//MAMBO JAMBO - ECPv5.6.0//NONSGML v1.0//EN
CALSCALE:GREGORIAN
METHOD:PUBLISH
X-WR-CALNAME:MAMBO JAMBO
X-ORIGINAL-URL:https://mambojambo.co.uk
X-WR-CALDESC:Events for MAMBO JAMBO
BEGIN:VTIMEZONE
TZID:Europe/London
BEGIN:DAYLIGHT
TZOFFSETFROM:+0000
TZOFFSETTO:+0100
TZNAME:BST
DTSTART:20210328T010000
END:DAYLIGHT
BEGIN:STANDARD
TZOFFSETFROM:+0100
TZOFFSETTO:+0000
TZNAME:GMT
DTSTART:20211031T010000
END:STANDARD
END:VTIMEZONE
BEGIN:VEVENT
DTSTART;VALUE=DATE:20210706
DTEND;VALUE=DATE:20210707
DTSTAMP:20260421T114354
CREATED:20210617T151951Z
LAST-MODIFIED:20210617T151951Z
UID:27061-1625529600-1625615999@mambojambo.co.uk
SUMMARY:Thoresby Primary School Hull\, Kaleidescope Workshops - Carnival!
DESCRIPTION:Today we’ll be delivering workshops on the theme of Carnival!
URL:https://mambojambo.co.uk/event/thoresby-primary-school-hull-kaleidescope-workshops-carnival/
END:VEVENT
END:VCALENDAR