BEGIN:VCALENDAR
VERSION:2.0
PRODID:-//MAMBO JAMBO - ECPv5.6.0//NONSGML v1.0//EN
CALSCALE:GREGORIAN
METHOD:PUBLISH
X-WR-CALNAME:MAMBO JAMBO
X-ORIGINAL-URL:https://mambojambo.co.uk
X-WR-CALDESC:Events for MAMBO JAMBO
BEGIN:VTIMEZONE
TZID:Europe/London
BEGIN:DAYLIGHT
TZOFFSETFROM:+0000
TZOFFSETTO:+0100
TZNAME:BST
DTSTART:20210328T010000
END:DAYLIGHT
BEGIN:STANDARD
TZOFFSETFROM:+0100
TZOFFSETTO:+0000
TZNAME:GMT
DTSTART:20211031T010000
END:STANDARD
END:VTIMEZONE
BEGIN:VEVENT
DTSTART;VALUE=DATE:20210627
DTEND;VALUE=DATE:20210628
DTSTAMP:20260421T114848
CREATED:20210316T115544Z
LAST-MODIFIED:20210611T092746Z
UID:26412-1624752000-1624838399@mambojambo.co.uk
SUMMARY:The Big Malarkey Festival! Hull
DESCRIPTION:We’re thrilled to be back at The Big Malarkey Childrens Literature Festival! We’re playing in the ‘Live And Kicking’ marquee playing songs from our new children’s CD ‘Happy Feet!’2.15-3pm\, and then 3.45-4.30pm\, with lots to join in with for all the family!\nhttps://thebigmalarkeyfestival.com/ \nThe Big Malarkey Festival\, Hull’s much loved family festival\, returns to East Park in Hull over the weekend of 26 & 27 June!  \nFrom bestselling authors to discovering the joys of new authors\, illustrators and artists\, this year’s festival returns with a programme brimming with playfulness\, discovery and reconnecting with simple joys as families of all ages are invited to come together to join in the festival fun\, in a safe and socially distanced way.   \nTickets are available now from www.thebigmalarkeyfestival.com \n 
URL:https://mambojambo.co.uk/event/the-big-malarkey-festival-hull/
LOCATION:East Park\, East Park\, Hull\, United Kingdom
END:VEVENT
END:VCALENDAR