BEGIN:VCALENDAR
VERSION:2.0
PRODID:-//MAMBO JAMBO - ECPv5.6.0//NONSGML v1.0//EN
CALSCALE:GREGORIAN
METHOD:PUBLISH
X-WR-CALNAME:MAMBO JAMBO
X-ORIGINAL-URL:https://mambojambo.co.uk
X-WR-CALDESC:Events for MAMBO JAMBO
BEGIN:VTIMEZONE
TZID:Europe/London
BEGIN:DAYLIGHT
TZOFFSETFROM:+0000
TZOFFSETTO:+0100
TZNAME:BST
DTSTART:20230326T010000
END:DAYLIGHT
BEGIN:STANDARD
TZOFFSETFROM:+0100
TZOFFSETTO:+0000
TZNAME:GMT
DTSTART:20231029T010000
END:STANDARD
END:VTIMEZONE
BEGIN:VEVENT
DTSTART;VALUE=DATE:20230429
DTEND;VALUE=DATE:20230501
DTSTAMP:20260420T145544
CREATED:20230217T221339Z
LAST-MODIFIED:20230217T221544Z
UID:31317-1682726400-1682899199@mambojambo.co.uk
SUMMARY:Tamworth Food Festival\, "Dine And Devour"
DESCRIPTION:International Street Food! \nCastle Upper & Lower Lawn & Holloway Car Park\nTamworth\nB79 7NA
URL:https://mambojambo.co.uk/event/tamworth-food-festival-dine-and-devour/
END:VEVENT
END:VCALENDAR