BEGIN:VCALENDAR
VERSION:2.0
PRODID:-//MAMBO JAMBO - ECPv5.6.0//NONSGML v1.0//EN
CALSCALE:GREGORIAN
METHOD:PUBLISH
X-WR-CALNAME:MAMBO JAMBO
X-ORIGINAL-URL:https://mambojambo.co.uk
X-WR-CALDESC:Events for MAMBO JAMBO
BEGIN:VTIMEZONE
TZID:Europe/London
BEGIN:DAYLIGHT
TZOFFSETFROM:+0000
TZOFFSETTO:+0100
TZNAME:BST
DTSTART:20210328T010000
END:DAYLIGHT
BEGIN:STANDARD
TZOFFSETFROM:+0100
TZOFFSETTO:+0000
TZNAME:GMT
DTSTART:20211031T010000
END:STANDARD
END:VTIMEZONE
BEGIN:VEVENT
DTSTART;VALUE=DATE:20211015
DTEND;VALUE=DATE:20211016
DTSTAMP:20260420T224509
CREATED:20210830T162035Z
LAST-MODIFIED:20210830T162035Z
UID:27379-1634256000-1634342399@mambojambo.co.uk
SUMMARY:Private Party
DESCRIPTION:
URL:https://mambojambo.co.uk/event/private-party-4/
END:VEVENT
END:VCALENDAR