BEGIN:VCALENDAR
VERSION:2.0
PRODID:-//MAMBO JAMBO - ECPv5.6.0//NONSGML v1.0//EN
CALSCALE:GREGORIAN
METHOD:PUBLISH
X-WR-CALNAME:MAMBO JAMBO
X-ORIGINAL-URL:https://mambojambo.co.uk
X-WR-CALDESC:Events for MAMBO JAMBO
BEGIN:VTIMEZONE
TZID:Europe/London
BEGIN:DAYLIGHT
TZOFFSETFROM:+0000
TZOFFSETTO:+0100
TZNAME:BST
DTSTART:20230326T010000
END:DAYLIGHT
BEGIN:STANDARD
TZOFFSETFROM:+0100
TZOFFSETTO:+0000
TZNAME:GMT
DTSTART:20231029T010000
END:STANDARD
END:VTIMEZONE
BEGIN:VEVENT
DTSTART;VALUE=DATE:20230528
DTEND;VALUE=DATE:20230529
DTSTAMP:20260420T133902
CREATED:20221214T222717Z
LAST-MODIFIED:20230125T224258Z
UID:30830-1685232000-1685318399@mambojambo.co.uk
SUMMARY:Private Party\, Kent
DESCRIPTION:You can read more about booking us for a private party or wedding here: https://mambojambo.co.uk/private-parties-private-bookings-weddings/
URL:https://mambojambo.co.uk/event/private-party-15/
END:VEVENT
END:VCALENDAR