BEGIN:VCALENDAR
VERSION:2.0
PRODID:-//MAMBO JAMBO - ECPv5.6.0//NONSGML v1.0//EN
CALSCALE:GREGORIAN
METHOD:PUBLISH
X-WR-CALNAME:MAMBO JAMBO
X-ORIGINAL-URL:https://mambojambo.co.uk
X-WR-CALDESC:Events for MAMBO JAMBO
BEGIN:VTIMEZONE
TZID:Europe/London
BEGIN:DAYLIGHT
TZOFFSETFROM:+0000
TZOFFSETTO:+0100
TZNAME:BST
DTSTART:20210328T010000
END:DAYLIGHT
BEGIN:STANDARD
TZOFFSETFROM:+0100
TZOFFSETTO:+0000
TZNAME:GMT
DTSTART:20211031T010000
END:STANDARD
END:VTIMEZONE
BEGIN:VEVENT
DTSTART;TZID=Europe/London:20210801T123000
DTEND;TZID=Europe/London:20210801T143000
DTSTAMP:20260421T101143
CREATED:20210704T092228Z
LAST-MODIFIED:20210704T092228Z
UID:27138-1627821000-1627828200@mambojambo.co.uk
SUMMARY:Private Function\, York
DESCRIPTION:If you want to book us for a private function party or wedding do get in touch via our ‘Contact Us’ page.
URL:https://mambojambo.co.uk/event/private-function-york/
END:VEVENT
END:VCALENDAR