BEGIN:VCALENDAR
VERSION:2.0
PRODID:-//MAMBO JAMBO - ECPv5.6.0//NONSGML v1.0//EN
CALSCALE:GREGORIAN
METHOD:PUBLISH
X-WR-CALNAME:MAMBO JAMBO
X-ORIGINAL-URL:https://mambojambo.co.uk
X-WR-CALDESC:Events for MAMBO JAMBO
BEGIN:VTIMEZONE
TZID:Europe/London
BEGIN:DAYLIGHT
TZOFFSETFROM:+0000
TZOFFSETTO:+0100
TZNAME:BST
DTSTART:20210328T010000
END:DAYLIGHT
BEGIN:STANDARD
TZOFFSETFROM:+0100
TZOFFSETTO:+0000
TZNAME:GMT
DTSTART:20211031T010000
END:STANDARD
END:VTIMEZONE
BEGIN:VEVENT
DTSTART;TZID=Europe/London:20211023T100000
DTEND;TZID=Europe/London:20211023T120000
DTSTAMP:20260420T182840
CREATED:20210805T210559Z
LAST-MODIFIED:20210805T210559Z
UID:27279-1634983200-1634990400@mambojambo.co.uk
SUMMARY:Private Booking - Birthday Party
DESCRIPTION:
URL:https://mambojambo.co.uk/event/private-booking-birthday-party/
END:VEVENT
END:VCALENDAR