BEGIN:VCALENDAR
VERSION:2.0
PRODID:-//MAMBO JAMBO - ECPv5.6.0//NONSGML v1.0//EN
CALSCALE:GREGORIAN
METHOD:PUBLISH
X-WR-CALNAME:MAMBO JAMBO
X-ORIGINAL-URL:https://mambojambo.co.uk
X-WR-CALDESC:Events for MAMBO JAMBO
BEGIN:VTIMEZONE
TZID:Europe/London
BEGIN:DAYLIGHT
TZOFFSETFROM:+0000
TZOFFSETTO:+0100
TZNAME:BST
DTSTART:20210328T010000
END:DAYLIGHT
BEGIN:STANDARD
TZOFFSETFROM:+0100
TZOFFSETTO:+0000
TZNAME:GMT
DTSTART:20211031T010000
END:STANDARD
END:VTIMEZONE
BEGIN:VEVENT
DTSTART;VALUE=DATE:20210714
DTEND;VALUE=DATE:20210715
DTSTAMP:20260421T113801
CREATED:20210714T131804Z
LAST-MODIFIED:20210714T131909Z
UID:27189-1626220800-1626307199@mambojambo.co.uk
SUMMARY:Private Birthday Party\, Beverley\, Yorkshire
DESCRIPTION:If you’d like to hire Mambo Jambo for a birthday party\, private party\, event or wedding do get in touch to discuss!
URL:https://mambojambo.co.uk/event/private-birthday-party-beverley-yorkshire/
END:VEVENT
END:VCALENDAR