BEGIN:VCALENDAR
VERSION:2.0
PRODID:-//MAMBO JAMBO - ECPv5.6.0//NONSGML v1.0//EN
CALSCALE:GREGORIAN
METHOD:PUBLISH
X-WR-CALNAME:MAMBO JAMBO
X-ORIGINAL-URL:https://mambojambo.co.uk
X-WR-CALDESC:Events for MAMBO JAMBO
BEGIN:VTIMEZONE
TZID:Europe/London
BEGIN:DAYLIGHT
TZOFFSETFROM:+0000
TZOFFSETTO:+0100
TZNAME:BST
DTSTART:20210328T010000
END:DAYLIGHT
BEGIN:STANDARD
TZOFFSETFROM:+0100
TZOFFSETTO:+0000
TZNAME:GMT
DTSTART:20211031T010000
END:STANDARD
END:VTIMEZONE
BEGIN:VEVENT
DTSTART;VALUE=DATE:20210712
DTEND;VALUE=DATE:20210713
DTSTAMP:20260421T113440
CREATED:20210625T152354Z
LAST-MODIFIED:20210625T152354Z
UID:27108-1626048000-1626134399@mambojambo.co.uk
SUMMARY:Primary Schools Music Performance & Workshop
DESCRIPTION:We’ll be in St Andrews\, Kirkella\, to give a performance and to do two music and dance workshops based on Latin America\, South America and the USA with our range of songs\, music\, instruments and activities!
URL:https://mambojambo.co.uk/event/primary-schools-music-performance-workshop/
END:VEVENT
END:VCALENDAR