BEGIN:VCALENDAR
VERSION:2.0
PRODID:-//MAMBO JAMBO - ECPv5.6.0//NONSGML v1.0//EN
CALSCALE:GREGORIAN
METHOD:PUBLISH
X-WR-CALNAME:MAMBO JAMBO
X-ORIGINAL-URL:https://mambojambo.co.uk
X-WR-CALDESC:Events for MAMBO JAMBO
BEGIN:VTIMEZONE
TZID:Europe/London
BEGIN:DAYLIGHT
TZOFFSETFROM:+0000
TZOFFSETTO:+0100
TZNAME:BST
DTSTART:20230326T010000
END:DAYLIGHT
BEGIN:STANDARD
TZOFFSETFROM:+0100
TZOFFSETTO:+0000
TZNAME:GMT
DTSTART:20231029T010000
END:STANDARD
END:VTIMEZONE
BEGIN:VEVENT
DTSTART;VALUE=DATE:20230705
DTEND;VALUE=DATE:20230706
DTSTAMP:20260420T104057
CREATED:20230502T201458Z
LAST-MODIFIED:20230502T201458Z
UID:31588-1688515200-1688601599@mambojambo.co.uk
SUMMARY:Primary School 'Americas' Theme\, Workshops/ Performance
DESCRIPTION:We’ve been invited back to St Andrews Kirkella\, to deliver this workshop based on music from South\, Central and North America.
URL:https://mambojambo.co.uk/event/primary-school-americas-theme-workshops-performance/
END:VEVENT
END:VCALENDAR