BEGIN:VCALENDAR
VERSION:2.0
PRODID:-//MAMBO JAMBO - ECPv5.6.0//NONSGML v1.0//EN
CALSCALE:GREGORIAN
METHOD:PUBLISH
X-WR-CALNAME:MAMBO JAMBO
X-ORIGINAL-URL:https://mambojambo.co.uk
X-WR-CALDESC:Events for MAMBO JAMBO
BEGIN:VTIMEZONE
TZID:Europe/London
BEGIN:DAYLIGHT
TZOFFSETFROM:+0000
TZOFFSETTO:+0100
TZNAME:BST
DTSTART:20210328T010000
END:DAYLIGHT
BEGIN:STANDARD
TZOFFSETFROM:+0100
TZOFFSETTO:+0000
TZNAME:GMT
DTSTART:20211031T010000
END:STANDARD
END:VTIMEZONE
BEGIN:VEVENT
DTSTART;TZID=Europe/London:20210424T200000
DTEND;TZID=Europe/London:20210424T210000
DTSTAMP:20260421T125526
CREATED:20210412T153045Z
LAST-MODIFIED:20210423T112201Z
UID:26607-1619294400-1619298000@mambojambo.co.uk
SUMMARY:Online Mambo Jambo Concert hosted by Helmsley Arts Centre & Rural Arts
DESCRIPTION:Hosted by Helmsley Arts Centre and Rural Arts/ Thirsk Courthouse Part of #SpringWatchlist\, we’ll be playing via Rural Arts facebook page  https://www.facebook.com/ruralartsnorthyorkshire. We’ll be playing songs from our new album ‘Groove Fruit’ (available to buy here)\, and generally enjoying playing live for you!
URL:https://mambojambo.co.uk/event/online-mambo-jambo-concert-hosted-by-helmsley-arts-centre-rural-arts/
LOCATION:Online
END:VEVENT
END:VCALENDAR