BEGIN:VCALENDAR
VERSION:2.0
PRODID:-//MAMBO JAMBO - ECPv5.6.0//NONSGML v1.0//EN
CALSCALE:GREGORIAN
METHOD:PUBLISH
X-WR-CALNAME:MAMBO JAMBO
X-ORIGINAL-URL:https://mambojambo.co.uk
X-WR-CALDESC:Events for MAMBO JAMBO
BEGIN:VTIMEZONE
TZID:Europe/London
BEGIN:DAYLIGHT
TZOFFSETFROM:+0000
TZOFFSETTO:+0100
TZNAME:BST
DTSTART:20210328T010000
END:DAYLIGHT
BEGIN:STANDARD
TZOFFSETFROM:+0100
TZOFFSETTO:+0000
TZNAME:GMT
DTSTART:20211031T010000
END:STANDARD
END:VTIMEZONE
BEGIN:VEVENT
DTSTART;VALUE=DATE:20210907
DTEND;VALUE=DATE:20210908
DTSTAMP:20260421T090221
CREATED:20210721T144458Z
LAST-MODIFIED:20210721T144458Z
UID:27216-1630972800-1631059199@mambojambo.co.uk
SUMMARY:Mexican themed Workshop\, Brigg Primary School
DESCRIPTION:We’re delivering a music and dance workshop at Brigg Primary School today
URL:https://mambojambo.co.uk/event/mexican-themed-workshop-brigg-primary-school/
END:VEVENT
END:VCALENDAR