BEGIN:VCALENDAR
VERSION:2.0
PRODID:-//MAMBO JAMBO - ECPv5.6.0//NONSGML v1.0//EN
CALSCALE:GREGORIAN
METHOD:PUBLISH
X-WR-CALNAME:MAMBO JAMBO
X-ORIGINAL-URL:https://mambojambo.co.uk
X-WR-CALDESC:Events for MAMBO JAMBO
BEGIN:VTIMEZONE
TZID:Europe/London
BEGIN:DAYLIGHT
TZOFFSETFROM:+0000
TZOFFSETTO:+0100
TZNAME:BST
DTSTART:20230326T010000
END:DAYLIGHT
BEGIN:STANDARD
TZOFFSETFROM:+0100
TZOFFSETTO:+0000
TZNAME:GMT
DTSTART:20231029T010000
END:STANDARD
END:VTIMEZONE
BEGIN:VEVENT
DTSTART;VALUE=DATE:20230618
DTEND;VALUE=DATE:20230619
DTSTAMP:20260420T122319
CREATED:20230306T204119Z
LAST-MODIFIED:20230407T134036Z
UID:31392-1687046400-1687132799@mambojambo.co.uk
SUMMARY:Mambo Jambo working with SightSupport\, University of Hull & Ideas Fund\, music with the visually impaired
DESCRIPTION:We’ll be offering a series of performances\, sensory activities and workshops working with children & young people with visual impairment. It’s part of a project backed by The British Science Association\, Wellcome Foundation and The Ideas Fund\, where we’re teaming up with Sight Support and researcher Dr. Bethan Jones of University of Hull. We’re really looking forward to this opportunity! \nYou can read more about The Ideas Fund Grant and the project here:
URL:https://mambojambo.co.uk/event/mambo-jambo-working-with-sightsupport-university-of-hull-ideas-fund-music-with-the-visually-impaired-3/
ATTACH;FMTTYPE=image/jpeg:https://mambojambo.co.uk/wp-content/uploads/Ideas-Fund-logo.jpg
END:VEVENT
END:VCALENDAR