BEGIN:VCALENDAR
VERSION:2.0
PRODID:-//MAMBO JAMBO - ECPv5.6.0//NONSGML v1.0//EN
CALSCALE:GREGORIAN
METHOD:PUBLISH
X-WR-CALNAME:MAMBO JAMBO
X-ORIGINAL-URL:https://mambojambo.co.uk
X-WR-CALDESC:Events for MAMBO JAMBO
BEGIN:VTIMEZONE
TZID:Europe/London
BEGIN:DAYLIGHT
TZOFFSETFROM:+0000
TZOFFSETTO:+0100
TZNAME:BST
DTSTART:20230326T010000
END:DAYLIGHT
BEGIN:STANDARD
TZOFFSETFROM:+0100
TZOFFSETTO:+0000
TZNAME:GMT
DTSTART:20231029T010000
END:STANDARD
END:VTIMEZONE
BEGIN:VEVENT
DTSTART;TZID=Europe/London:20230526T210000
DTEND;TZID=Europe/London:20230526T230000
DTSTAMP:20260420T134610
CREATED:20230407T133621Z
LAST-MODIFIED:20230410T230525Z
UID:31498-1685134800-1685142000@mambojambo.co.uk
SUMMARY:Mambo Jambo with Joe Martin Violin\, Morden Arms Greenwich\, London
DESCRIPTION:We’ll be playing with our very good friend and fantastic fiddle player\, Joe Martin\, at The Morden Arms\, Greenwich. What a treat! Expect all sorts of musical wildness\, from swing and jazz-manouche to bluegrass\, to cajun and wherever else we go! In fact\, expect the unexpected!
URL:https://mambojambo.co.uk/event/mambo-jambo-with-joe-martin-violin-morden-arms-greenwich-london/
LOCATION:The Morden Arms\, 1 Brand St\, Greenwich\, London\, SE10 8SP
ATTACH;FMTTYPE=image/jpeg:https://mambojambo.co.uk/wp-content/uploads/Mambo-Jambo-With-Joe-Martin-2.jpg
END:VEVENT
END:VCALENDAR