BEGIN:VCALENDAR
VERSION:2.0
PRODID:-//MAMBO JAMBO - ECPv5.6.0//NONSGML v1.0//EN
CALSCALE:GREGORIAN
METHOD:PUBLISH
X-WR-CALNAME:MAMBO JAMBO
X-ORIGINAL-URL:https://mambojambo.co.uk
X-WR-CALDESC:Events for MAMBO JAMBO
BEGIN:VTIMEZONE
TZID:Europe/London
BEGIN:DAYLIGHT
TZOFFSETFROM:+0000
TZOFFSETTO:+0100
TZNAME:BST
DTSTART:20230326T010000
END:DAYLIGHT
BEGIN:STANDARD
TZOFFSETFROM:+0100
TZOFFSETTO:+0000
TZNAME:GMT
DTSTART:20231029T010000
END:STANDARD
END:VTIMEZONE
BEGIN:VEVENT
DTSTART;TZID=Europe/London:20230607T190000
DTEND;TZID=Europe/London:20230607T193000
DTSTAMP:20260420T150255
CREATED:20230607T181623Z
LAST-MODIFIED:20230607T181623Z
UID:31698-1686164400-1686166200@mambojambo.co.uk
SUMMARY:Mambo Jambo Podcast on West Hull FM\, Hull Maritime Community project
DESCRIPTION:Our first podcast is being broadcast tonight on West Hull FM! You can then hear it also from our blog here
URL:https://mambojambo.co.uk/event/mambo-jambo-podcast-on-west-hull-fm-hull-maritime-community-project/
ATTACH;FMTTYPE=image/png:https://mambojambo.co.uk/wp-content/uploads/Community-Grant-Scheme-Banner.png
END:VEVENT
END:VCALENDAR