BEGIN:VCALENDAR
VERSION:2.0
PRODID:-//MAMBO JAMBO - ECPv5.6.0//NONSGML v1.0//EN
CALSCALE:GREGORIAN
METHOD:PUBLISH
X-WR-CALNAME:MAMBO JAMBO
X-ORIGINAL-URL:https://mambojambo.co.uk
X-WR-CALDESC:Events for MAMBO JAMBO
BEGIN:VTIMEZONE
TZID:Europe/London
BEGIN:DAYLIGHT
TZOFFSETFROM:+0000
TZOFFSETTO:+0100
TZNAME:BST
DTSTART:20210328T010000
END:DAYLIGHT
BEGIN:STANDARD
TZOFFSETFROM:+0100
TZOFFSETTO:+0000
TZNAME:GMT
DTSTART:20211031T010000
END:STANDARD
END:VTIMEZONE
BEGIN:VEVENT
DTSTART;TZID=Europe/London:20211022T180000
DTEND;TZID=Europe/London:20211022T180000
DTSTAMP:20260420T195655
CREATED:20211006T143714Z
LAST-MODIFIED:20211006T143714Z
UID:27562-1634925600-1634925600@mambojambo.co.uk
SUMMARY:Mambo Jambo play a Latin Set at Revolucion de Cuba\, Sheffield
DESCRIPTION:
URL:https://mambojambo.co.uk/event/mambo-jambo-play-a-latin-set-at-revolucion-de-cuba-sheffield/
LOCATION:Revolucion de Cuba\, 1 Mappin St\, Sheffield\, S1 4DT
END:VEVENT
END:VCALENDAR