BEGIN:VCALENDAR
VERSION:2.0
PRODID:-//MAMBO JAMBO - ECPv5.6.0//NONSGML v1.0//EN
CALSCALE:GREGORIAN
METHOD:PUBLISH
X-WR-CALNAME:MAMBO JAMBO
X-ORIGINAL-URL:https://mambojambo.co.uk
X-WR-CALDESC:Events for MAMBO JAMBO
BEGIN:VTIMEZONE
TZID:Europe/London
BEGIN:DAYLIGHT
TZOFFSETFROM:+0000
TZOFFSETTO:+0100
TZNAME:BST
DTSTART:20210328T010000
END:DAYLIGHT
BEGIN:STANDARD
TZOFFSETFROM:+0100
TZOFFSETTO:+0000
TZNAME:GMT
DTSTART:20211031T010000
END:STANDARD
END:VTIMEZONE
BEGIN:VEVENT
DTSTART;TZID=Europe/London:20210424T140000
DTEND;TZID=Europe/London:20210424T150000
DTSTAMP:20260421T124952
CREATED:20210413T160126Z
LAST-MODIFIED:20210418T172846Z
UID:26639-1619272800-1619276400@mambojambo.co.uk
SUMMARY:Mambo Jambo Kids Show! Helmsley Arts Centre Online & Rural Arts via Zoom
DESCRIPTION:‘Mambo Jambo\, Pete and Frankie\, have loads of instruments to show you\, and love sharing their music with children and their families! They think music is great and also great fun! So get ready for songs\, silliness\, and actions! We’ll be performing songs from our new Childrens CD\, ‘Happy Feet’\, and there are plenty of fun things we can join in on together\, or just sit back and enjoy!’ 2pm- 2.45pm\nTickets cost £3.50 per Household\nThe show will be performed on Zoom\nThe Zoom Link will be sent out after you\nhave purchased your tickets\nTickets available here\nhttps://www.helmsleyarts.co.uk/…/mambo-jambo-kids-show… \n#SpringWatchlist
URL:https://mambojambo.co.uk/event/mambo-jambo-kids-show-helmsley-arts-centre-online-rural-arts-via-zoom/
LOCATION:Online
ATTACH;FMTTYPE=image/jpeg:https://mambojambo.co.uk/wp-content/uploads/Nonsense-Show-Eden.jpg
END:VEVENT
END:VCALENDAR