BEGIN:VCALENDAR
VERSION:2.0
PRODID:-//MAMBO JAMBO - ECPv5.6.0//NONSGML v1.0//EN
CALSCALE:GREGORIAN
METHOD:PUBLISH
X-WR-CALNAME:MAMBO JAMBO
X-ORIGINAL-URL:https://mambojambo.co.uk
X-WR-CALDESC:Events for MAMBO JAMBO
BEGIN:VTIMEZONE
TZID:Europe/London
BEGIN:DAYLIGHT
TZOFFSETFROM:+0000
TZOFFSETTO:+0100
TZNAME:BST
DTSTART:20210328T010000
END:DAYLIGHT
BEGIN:STANDARD
TZOFFSETFROM:+0100
TZOFFSETTO:+0000
TZNAME:GMT
DTSTART:20211031T010000
END:STANDARD
END:VTIMEZONE
BEGIN:VEVENT
DTSTART;TZID=Europe/London:20210919T180000
DTEND;TZID=Europe/London:20210919T220000
DTSTAMP:20260421T081209
CREATED:20210802T113754Z
LAST-MODIFIED:20210915T120949Z
UID:27264-1632074400-1632088800@mambojambo.co.uk
SUMMARY:Mambo Jambo Holmfirth Arts Festival
DESCRIPTION:https://www.holmfirthartsfestival.co.uk/\nWe’ll be playing the ‘Family Friendly Closing Party’ supporting Biscuithead And The Biscuit Badgers\, who invite you to ‘come along in your parade costume and party the night away’.\nTICKETS: £14/£12.50 conc./ £33 family of fourEARLYBIRD: £12/£10.50 conc./ £33 family of four
URL:https://mambojambo.co.uk/event/mambo-jambo-holmfirth-arts-festival/
LOCATION:Holmfirth Civic Hall\, Huddersfield Rd\, Holmfirth\, HD9 3AS
END:VEVENT
END:VCALENDAR