BEGIN:VCALENDAR
VERSION:2.0
PRODID:-//MAMBO JAMBO - ECPv5.6.0//NONSGML v1.0//EN
CALSCALE:GREGORIAN
METHOD:PUBLISH
X-WR-CALNAME:MAMBO JAMBO
X-ORIGINAL-URL:https://mambojambo.co.uk
X-WR-CALDESC:Events for MAMBO JAMBO
BEGIN:VTIMEZONE
TZID:Europe/London
BEGIN:DAYLIGHT
TZOFFSETFROM:+0000
TZOFFSETTO:+0100
TZNAME:BST
DTSTART:20220327T010000
END:DAYLIGHT
BEGIN:STANDARD
TZOFFSETFROM:+0100
TZOFFSETTO:+0000
TZNAME:GMT
DTSTART:20221030T010000
END:STANDARD
END:VTIMEZONE
BEGIN:VEVENT
DTSTART;TZID=Europe/London:20220619T140000
DTEND;TZID=Europe/London:20220619T150000
DTSTAMP:20260421T092614
CREATED:20220531T201558Z
LAST-MODIFIED:20220602T061047Z
UID:28953-1655647200-1655650800@mambojambo.co.uk
SUMMARY:Louth Zero Degrees Arts Festival\,
DESCRIPTION:Come down for this free festival! We’ll be playing at the Navigation Warehouse Platform 2pmish; and there’ll be other bands too!\nhttps://www.zerodegreeslouth.org.uk/\nhttps://www.facebook.com/ZeroDegreesLouth/
URL:https://mambojambo.co.uk/event/louth-zero-degrees-festival/
LOCATION:Louth Navigation Warehouse latform\, The Riverhead\, Louth\, Lincolnshire\, LN110DA
END:VEVENT
END:VCALENDAR