BEGIN:VCALENDAR
VERSION:2.0
PRODID:-//MAMBO JAMBO - ECPv5.6.0//NONSGML v1.0//EN
CALSCALE:GREGORIAN
METHOD:PUBLISH
X-WR-CALNAME:MAMBO JAMBO
X-ORIGINAL-URL:https://mambojambo.co.uk
X-WR-CALDESC:Events for MAMBO JAMBO
BEGIN:VTIMEZONE
TZID:Europe/London
BEGIN:DAYLIGHT
TZOFFSETFROM:+0000
TZOFFSETTO:+0100
TZNAME:BST
DTSTART:20210328T010000
END:DAYLIGHT
BEGIN:STANDARD
TZOFFSETFROM:+0100
TZOFFSETTO:+0000
TZNAME:GMT
DTSTART:20211031T010000
END:STANDARD
END:VTIMEZONE
BEGIN:VEVENT
DTSTART;VALUE=DATE:20210905
DTEND;VALUE=DATE:20210906
DTSTAMP:20260421T090508
CREATED:20210802T113001Z
LAST-MODIFIED:20210831T142816Z
UID:27261-1630800000-1630886399@mambojambo.co.uk
SUMMARY:Louth Riverhead Heritage Music & Water Festival
DESCRIPTION:This great music event is for the full weekend around the Riverhead Louth\, and we’ll be playing 1.30-2.15pm Sun 5th Sept.
URL:https://mambojambo.co.uk/event/louth-riverhead-music-weekend/
LOCATION:Louth Navigation Warehouse latform\, The Riverhead\, Louth\, Lincolnshire\, LN110DA
END:VEVENT
END:VCALENDAR