BEGIN:VCALENDAR
VERSION:2.0
PRODID:-//MAMBO JAMBO - ECPv5.6.0//NONSGML v1.0//EN
CALSCALE:GREGORIAN
METHOD:PUBLISH
X-WR-CALNAME:MAMBO JAMBO
X-ORIGINAL-URL:https://mambojambo.co.uk
X-WR-CALDESC:Events for MAMBO JAMBO
BEGIN:VTIMEZONE
TZID:Europe/London
BEGIN:DAYLIGHT
TZOFFSETFROM:+0000
TZOFFSETTO:+0100
TZNAME:BST
DTSTART:20230326T010000
END:DAYLIGHT
BEGIN:STANDARD
TZOFFSETFROM:+0100
TZOFFSETTO:+0000
TZNAME:GMT
DTSTART:20231029T010000
END:STANDARD
END:VTIMEZONE
BEGIN:VEVENT
DTSTART;TZID=Europe/London:20230702T080000
DTEND;TZID=Europe/London:20230702T170000
DTSTAMP:20260422T092301
CREATED:20230607T125633Z
LAST-MODIFIED:20230607T125633Z
UID:31695-1688284800-1688317200@mambojambo.co.uk
SUMMARY:Louth Arts Festival
DESCRIPTION:We’ll be back in Louth for the Arts Festival at the Canalhead. Times to be confirmed (photo taken at Louth Arts Festival last year!)
URL:https://mambojambo.co.uk/event/louth-arts-festival/
LOCATION:Louth Navigation Warehouse latform\, The Riverhead\, Louth\, Lincolnshire\, LN110DA
ATTACH;FMTTYPE=image/jpeg:https://mambojambo.co.uk/wp-content/uploads/Mambo-Jambo-at-Zero-Degrees-Louth-Arts-Festival-1-scaled.jpg
END:VEVENT
END:VCALENDAR