BEGIN:VCALENDAR
VERSION:2.0
PRODID:-//MAMBO JAMBO - ECPv5.6.0//NONSGML v1.0//EN
CALSCALE:GREGORIAN
METHOD:PUBLISH
X-WR-CALNAME:MAMBO JAMBO
X-ORIGINAL-URL:https://mambojambo.co.uk
X-WR-CALDESC:Events for MAMBO JAMBO
BEGIN:VTIMEZONE
TZID:Europe/London
BEGIN:DAYLIGHT
TZOFFSETFROM:+0000
TZOFFSETTO:+0100
TZNAME:BST
DTSTART:20210328T010000
END:DAYLIGHT
BEGIN:STANDARD
TZOFFSETFROM:+0100
TZOFFSETTO:+0000
TZNAME:GMT
DTSTART:20211031T010000
END:STANDARD
END:VTIMEZONE
BEGIN:VEVENT
DTSTART;TZID=Europe/London:20210917T200000
DTEND;TZID=Europe/London:20210917T220000
DTSTAMP:20260421T090701
CREATED:20210815T134225Z
LAST-MODIFIED:20210815T134450Z
UID:27320-1631908800-1631916000@mambojambo.co.uk
SUMMARY:Longton VM Hall. 'Spot On'/ Cheshire Rural Touring Arts
DESCRIPTION:https://www.longtonvm.co.uk/boxoffice_live_event.htm \nDoors Open 7pm\, concert starts 8pm
URL:https://mambojambo.co.uk/event/longton-vm-hall-spot-on-cheshire-rural-touring-arts/
LOCATION:Longton VM\, Victory Lane (Off School Lane)\, Langton\, Lancashire\, PR4 5DL
END:VEVENT
END:VCALENDAR