BEGIN:VCALENDAR
VERSION:2.0
PRODID:-//MAMBO JAMBO - ECPv5.6.0//NONSGML v1.0//EN
CALSCALE:GREGORIAN
METHOD:PUBLISH
X-WR-CALNAME:MAMBO JAMBO
X-ORIGINAL-URL:https://mambojambo.co.uk
X-WR-CALDESC:Events for MAMBO JAMBO
BEGIN:VTIMEZONE
TZID:Europe/London
BEGIN:DAYLIGHT
TZOFFSETFROM:+0000
TZOFFSETTO:+0100
TZNAME:BST
DTSTART:20210328T010000
END:DAYLIGHT
BEGIN:STANDARD
TZOFFSETFROM:+0100
TZOFFSETTO:+0000
TZNAME:GMT
DTSTART:20211031T010000
END:STANDARD
END:VTIMEZONE
BEGIN:VEVENT
DTSTART;TZID=Europe/London:20210930T193000
DTEND;TZID=Europe/London:20210930T213000
DTSTAMP:20260421T045356
CREATED:20210802T113945Z
LAST-MODIFIED:20210802T113945Z
UID:27170-1633030200-1633037400@mambojambo.co.uk
SUMMARY:Joe's Bar & Diner\, Oxford
DESCRIPTION:Great to be back at Joe’s; Read more here\nRing 01865 554484 to book
URL:https://mambojambo.co.uk/event/joes-bar-diner-oxford/
LOCATION:Joe’s Bar & Diner\, 260 Banbury Rd\, Oxford\, OX2 7DX
END:VEVENT
END:VCALENDAR