BEGIN:VCALENDAR
VERSION:2.0
PRODID:-//MAMBO JAMBO - ECPv5.6.0//NONSGML v1.0//EN
CALSCALE:GREGORIAN
METHOD:PUBLISH
X-WR-CALNAME:MAMBO JAMBO
X-ORIGINAL-URL:https://mambojambo.co.uk
X-WR-CALDESC:Events for MAMBO JAMBO
BEGIN:VTIMEZONE
TZID:Europe/London
BEGIN:DAYLIGHT
TZOFFSETFROM:+0000
TZOFFSETTO:+0100
TZNAME:BST
DTSTART:20230326T010000
END:DAYLIGHT
BEGIN:STANDARD
TZOFFSETFROM:+0100
TZOFFSETTO:+0000
TZNAME:GMT
DTSTART:20231029T010000
END:STANDARD
END:VTIMEZONE
BEGIN:VEVENT
DTSTART;VALUE=DATE:20230612
DTEND;VALUE=DATE:20230613
DTSTAMP:20260420T120543
CREATED:20230610T111917Z
LAST-MODIFIED:20230610T111917Z
UID:31704-1686528000-1686614399@mambojambo.co.uk
SUMMARY:Hull Central Library & Avenues Library Sessions
DESCRIPTION:We’ll be at Hull Central Library 10-10.45 Under Fives Session\, and Avenues Library 11.45 – 12.30\,\, again a Family Session\, as a preview for our Big Malarkey Session Sun June 25th
URL:https://mambojambo.co.uk/event/hull-central-library-avenues-library-sessions/
END:VEVENT
END:VCALENDAR