BEGIN:VCALENDAR
VERSION:2.0
PRODID:-//MAMBO JAMBO - ECPv5.6.0//NONSGML v1.0//EN
CALSCALE:GREGORIAN
METHOD:PUBLISH
X-WR-CALNAME:MAMBO JAMBO
X-ORIGINAL-URL:https://mambojambo.co.uk
X-WR-CALDESC:Events for MAMBO JAMBO
BEGIN:VTIMEZONE
TZID:Europe/London
BEGIN:DAYLIGHT
TZOFFSETFROM:+0000
TZOFFSETTO:+0100
TZNAME:BST
DTSTART:20210328T010000
END:DAYLIGHT
BEGIN:STANDARD
TZOFFSETFROM:+0100
TZOFFSETTO:+0000
TZNAME:GMT
DTSTART:20211031T010000
END:STANDARD
END:VTIMEZONE
BEGIN:VEVENT
DTSTART;TZID=Europe/London:20210717T193000
DTEND;TZID=Europe/London:20210717T213000
DTSTAMP:20260421T102348
CREATED:20210414T105323Z
LAST-MODIFIED:20210716T164750Z
UID:26658-1626550200-1626557400@mambojambo.co.uk
SUMMARY:Harwich Arts Festival
DESCRIPTION:Our evening Concert to take place in Harwich Arts And Heritage Centre. Tickets £10 .\nMore info: here and you can buy tickets here \nDuring the day we’re leading two informal workshops/ ‘listen to and join in with Mambo Jambo’ sessions on the Harwich Bandstand; singing\, body percussion\, some dance moves etc. from 1pm-1.35 and 1.50-2.20pm (roughly!).
URL:https://mambojambo.co.uk/event/harwich-arts-festival/
LOCATION:Harwich
END:VEVENT
END:VCALENDAR