BEGIN:VCALENDAR
VERSION:2.0
PRODID:-//MAMBO JAMBO - ECPv5.6.0//NONSGML v1.0//EN
CALSCALE:GREGORIAN
METHOD:PUBLISH
X-WR-CALNAME:MAMBO JAMBO
X-ORIGINAL-URL:https://mambojambo.co.uk
X-WR-CALDESC:Events for MAMBO JAMBO
BEGIN:VTIMEZONE
TZID:Europe/London
BEGIN:DAYLIGHT
TZOFFSETFROM:+0000
TZOFFSETTO:+0100
TZNAME:BST
DTSTART:20230326T010000
END:DAYLIGHT
BEGIN:STANDARD
TZOFFSETFROM:+0100
TZOFFSETTO:+0000
TZNAME:GMT
DTSTART:20231029T010000
END:STANDARD
END:VTIMEZONE
BEGIN:VEVENT
DTSTART;VALUE=DATE:20230921
DTEND;VALUE=DATE:20230923
DTSTAMP:20260420T090728
CREATED:20230813T113709Z
LAST-MODIFIED:20230813T113709Z
UID:31905-1695254400-1695427199@mambojambo.co.uk
SUMMARY:Flamenco Dance Primary School Workshops
DESCRIPTION:
URL:https://mambojambo.co.uk/event/flamenco-dance-primary-school-workshops/
ATTACH;FMTTYPE=image/jpeg:https://mambojambo.co.uk/wp-content/uploads/Flamenco-Dance-Schools-Workshop-2-Big-Malarkey-adj-1-scaled-e1710929604758.jpg
END:VEVENT
END:VCALENDAR