BEGIN:VCALENDAR
VERSION:2.0
PRODID:-//MAMBO JAMBO - ECPv5.6.0//NONSGML v1.0//EN
CALSCALE:GREGORIAN
METHOD:PUBLISH
X-WR-CALNAME:MAMBO JAMBO
X-ORIGINAL-URL:https://mambojambo.co.uk
X-WR-CALDESC:Events for MAMBO JAMBO
BEGIN:VTIMEZONE
TZID:Europe/London
BEGIN:DAYLIGHT
TZOFFSETFROM:+0000
TZOFFSETTO:+0100
TZNAME:BST
DTSTART:20230326T010000
END:DAYLIGHT
BEGIN:STANDARD
TZOFFSETFROM:+0100
TZOFFSETTO:+0000
TZNAME:GMT
DTSTART:20231029T010000
END:STANDARD
END:VTIMEZONE
BEGIN:VEVENT
DTSTART;VALUE=DATE:20230416
DTEND;VALUE=DATE:20230417
DTSTAMP:20260420T150855
CREATED:20230306T154605Z
LAST-MODIFIED:20230411T214218Z
UID:31383-1681603200-1681689599@mambojambo.co.uk
SUMMARY:Dunoon Burgh Hall\, Scotland\, Show & Children's/ Family Workshop
DESCRIPTION:Tickets available here: \nChildren’s/ Family workshop 3-4pm – free but booking essential\n\nEvening “Mambo Jambo In Concert” 7pm doors open\, show at 7.30pm\,\nCost: £12\, £10 – Under 16’s and Young Scot Card holders \n*******************************\n\n\n\nEVENING ‘MAMBO JAMBO IN CONCERT’: \n\n\n“Musical sunshine from a multi-talented and multi-instrumental duo!” \nMambo Jambo – a joyous whirlwind of roots music! \nA truly unique duo\, performing their upbeat mash up of roots styles\, with elements of roots\, jazz\, world and folk – plus bluegrass! A real Jamboree! Along with their own songs the evening may contain New Orleans Gumbo Stew (for which they’ll need the audience’s help!)\, bluegrass banjo\, French accordion waltzes\, funky and percussive sambas\, Cuban ballads\, some jump-jive sax and balkan clarinet.; A fabulous musical treat is in store wherever they roll up\, their tour bus packed to the brim with instruments. Pete on guitar\, banjo\, vocals\, accordion\, Cuban tres\, ukulele\, and Frankie on sax\, vocals\, clarinet\, flute\, & between them all kinds of percussion including suitcase and spoons! \nPete and Frankie have appeared on various BBC Local Radio shows\, the BBC Symphony for Yorkshire and MTV Asia\, and have been gathering admirers at shows and festivals in the UK\, Europe and internationally. They’ve played gigs in Havana\, toured France\, Ireland and Sweden\, and festivals in Shetland\, Borneo\, France and Portugal. \n‘Really brilliant ! So uplifting!’ BBC Radio Derby ‘The sheer enthusiasm & joy of their music along with their wonderful musicianship & great stage presence combine to create an act that will undoubtedly go down a storm wherever they play. ” Jim McLaughlin\, Musicport Festival Director\n********************************\n\n\nCHILDREN’S/ FAMILY MUSIC WORKSHOP\n\n\n\nCome and join Pete and Frankie of Mambo Jambo for a family music workshop at Dunoon Burgh Hall\, Sun 15th April  \nTogether we’ll be making music: playing percussion (provided)\, body percussion\, singing & rapping\, in a fun & relaxed atmosphere! Recommended ages between 4 and 8 and their grown-ups. No experience necessary\, just enthusiasm! Lots of fun for all the family!  (Each child/ group of children to be accompanied by an adult).  “Thoroughly enjoyable and engaging” \nhttps://mambojambo.co.uk/workshops\nTel: 01369 701776 \n\n 
URL:https://mambojambo.co.uk/event/dunoon-burgh-hall-scotland-show-family-workshop/
LOCATION:Dunoon Burgh Hall\, 195 Argyll St\, Dunoon\, Scotland\, PA23 7DD
END:VEVENT
END:VCALENDAR