BEGIN:VCALENDAR
VERSION:2.0
PRODID:-//MAMBO JAMBO - ECPv5.6.0//NONSGML v1.0//EN
CALSCALE:GREGORIAN
METHOD:PUBLISH
X-WR-CALNAME:MAMBO JAMBO
X-ORIGINAL-URL:https://mambojambo.co.uk
X-WR-CALDESC:Events for MAMBO JAMBO
BEGIN:VTIMEZONE
TZID:Europe/London
BEGIN:DAYLIGHT
TZOFFSETFROM:+0000
TZOFFSETTO:+0100
TZNAME:BST
DTSTART:20230326T010000
END:DAYLIGHT
BEGIN:STANDARD
TZOFFSETFROM:+0100
TZOFFSETTO:+0000
TZNAME:GMT
DTSTART:20231029T010000
END:STANDARD
END:VTIMEZONE
BEGIN:VEVENT
DTSTART;VALUE=DATE:20230611
DTEND;VALUE=DATE:20230612
DTSTAMP:20260420T133103
CREATED:20230328T193252Z
LAST-MODIFIED:20230608T171143Z
UID:31474-1686441600-1686527999@mambojambo.co.uk
SUMMARY:Congleton Food Festival
DESCRIPTION:We’re back at the Congleton Food Festival! Our sets are at 2-2.45 and 3-3.45pm
URL:https://mambojambo.co.uk/event/congleton-food-festival/
END:VEVENT
END:VCALENDAR