BEGIN:VCALENDAR
VERSION:2.0
PRODID:-//MAMBO JAMBO - ECPv5.6.0//NONSGML v1.0//EN
CALSCALE:GREGORIAN
METHOD:PUBLISH
X-WR-CALNAME:MAMBO JAMBO
X-ORIGINAL-URL:https://mambojambo.co.uk
X-WR-CALDESC:Events for MAMBO JAMBO
BEGIN:VTIMEZONE
TZID:Europe/London
BEGIN:DAYLIGHT
TZOFFSETFROM:+0000
TZOFFSETTO:+0100
TZNAME:BST
DTSTART:20230326T010000
END:DAYLIGHT
BEGIN:STANDARD
TZOFFSETFROM:+0100
TZOFFSETTO:+0000
TZNAME:GMT
DTSTART:20231029T010000
END:STANDARD
END:VTIMEZONE
BEGIN:VEVENT
DTSTART;VALUE=DATE:20230730
DTEND;VALUE=DATE:20230731
DTSTAMP:20260420T131450
CREATED:20230314T132834Z
LAST-MODIFIED:20230410T205037Z
UID:31430-1690675200-1690761599@mambojambo.co.uk
SUMMARY:Carew Arms Music and Beer Festival\, Crowcombe\, Somerset
DESCRIPTION:This is a great festival in a beautiful setting! We’ll be playing 2-4pm
URL:https://mambojambo.co.uk/event/carew-arms-music-and-beer-festival-crowcombe-somerset/
LOCATION:Carew Arms\, Crowcombe\, Taunton\, TA4 4AD
END:VEVENT
END:VCALENDAR