BEGIN:VCALENDAR
VERSION:2.0
PRODID:-//MAMBO JAMBO - ECPv5.6.0//NONSGML v1.0//EN
CALSCALE:GREGORIAN
METHOD:PUBLISH
X-WR-CALNAME:MAMBO JAMBO
X-ORIGINAL-URL:https://mambojambo.co.uk
X-WR-CALDESC:Events for MAMBO JAMBO
BEGIN:VTIMEZONE
TZID:Europe/London
BEGIN:DAYLIGHT
TZOFFSETFROM:+0000
TZOFFSETTO:+0100
TZNAME:BST
DTSTART:20220327T010000
END:DAYLIGHT
BEGIN:STANDARD
TZOFFSETFROM:+0100
TZOFFSETTO:+0000
TZNAME:GMT
DTSTART:20221030T010000
END:STANDARD
END:VTIMEZONE
BEGIN:VEVENT
DTSTART;VALUE=DATE:20220731
DTEND;VALUE=DATE:20220801
DTSTAMP:20260420T104959
CREATED:20220517T124951Z
LAST-MODIFIED:20220521T110809Z
UID:28748-1659225600-1659311999@mambojambo.co.uk
SUMMARY:Carew Arms Beer & Cider Festival Somerset
DESCRIPTION:Details To Follow
URL:https://mambojambo.co.uk/event/carew-arms-beer-cider-festival-somerset/
LOCATION:Carew Arms\, Crowcombe\, Taunton\, TA4 4AD
END:VEVENT
END:VCALENDAR