BEGIN:VCALENDAR
VERSION:2.0
PRODID:-//MAMBO JAMBO - ECPv5.6.0//NONSGML v1.0//EN
CALSCALE:GREGORIAN
METHOD:PUBLISH
X-WR-CALNAME:MAMBO JAMBO
X-ORIGINAL-URL:https://mambojambo.co.uk
X-WR-CALDESC:Events for MAMBO JAMBO
BEGIN:VTIMEZONE
TZID:Europe/London
BEGIN:DAYLIGHT
TZOFFSETFROM:+0000
TZOFFSETTO:+0100
TZNAME:BST
DTSTART:20210328T010000
END:DAYLIGHT
BEGIN:STANDARD
TZOFFSETFROM:+0100
TZOFFSETTO:+0000
TZNAME:GMT
DTSTART:20211031T010000
END:STANDARD
END:VTIMEZONE
BEGIN:VEVENT
DTSTART;TZID=Europe/London:20210718T143000
DTEND;TZID=Europe/London:20210718T163000
DTSTAMP:20260421T113635
CREATED:20210510T231003Z
LAST-MODIFIED:20210510T231003Z
UID:26857-1626618600-1626625800@mambojambo.co.uk
SUMMARY:Blaxhall Ship Inn
DESCRIPTION:Looking forward to playing at this great venue!
URL:https://mambojambo.co.uk/event/blaxhall-ship-inn/
LOCATION:Blaxhall Ship Inn\, School Road\, Blaxhall\, Woodbridge\, IP12 2DY
END:VEVENT
END:VCALENDAR