BEGIN:VCALENDAR
VERSION:2.0
PRODID:-//MAMBO JAMBO - ECPv5.6.0//NONSGML v1.0//EN
CALSCALE:GREGORIAN
METHOD:PUBLISH
X-WR-CALNAME:MAMBO JAMBO
X-ORIGINAL-URL:https://mambojambo.co.uk
X-WR-CALDESC:Events for MAMBO JAMBO
BEGIN:VTIMEZONE
TZID:Europe/London
BEGIN:DAYLIGHT
TZOFFSETFROM:+0000
TZOFFSETTO:+0100
TZNAME:BST
DTSTART:20210328T010000
END:DAYLIGHT
BEGIN:STANDARD
TZOFFSETFROM:+0100
TZOFFSETTO:+0000
TZNAME:GMT
DTSTART:20211031T010000
END:STANDARD
END:VTIMEZONE
BEGIN:VEVENT
DTSTART;VALUE=DATE:20210622
DTEND;VALUE=DATE:20210623
DTSTAMP:20260421T125926
CREATED:20210510T230510Z
LAST-MODIFIED:20210510T230510Z
UID:26853-1624320000-1624406399@mambojambo.co.uk
SUMMARY:Big Malarkey Festival; Schools Flamenco & Spanish Session\, Ole!
DESCRIPTION:As part of the Big Malarkey Festival we’re in primary schools delvering our Spanish session\, including learnng a basic flamenco dance routine\, flamenco hand claps & wrist curls!
URL:https://mambojambo.co.uk/event/big-malarkey-festival-schools-flamenco-spanish-session-ole/
END:VEVENT
END:VCALENDAR